BEGIN:VCALENDAR
VERSION:2.0
PRODID:-//ChamberMaster//Event Calendar 2.0//EN
METHOD:PUBLISH
X-PUBLISHED-TTL:P3D
REFRESH-INTERVAL:P3D
CALSCALE:GREGORIAN
BEGIN:VEVENT
DTSTART:20211202T150000Z
DTEND:20211202T160000Z
X-MICROSOFT-CDO-ALLDAYEVENT:FALSE
SUMMARY:SSA 38 Commission Meeting - 12.2.21
DESCRIPTION:SSA 38 Northcenter Commission Meeting    \n\n\n\nEileen Keleghan is inviting you to a scheduled Zoom meeting.\n\n\n\nTopic: SSA 38 Commission Meeting\n\nTime: Dec 2\, 2021 09:00 AM Central Time (US and Canada)\n\n\n\nJoin Zoom Meeting\n\nhttps://us02web.zoom.us/j/83126310769?pwd=dDRQN3VlUmtEYnVkQXU0SDV4aXYwUT09\n\n\n\nMeeting ID: 831 2631 0769\n\nOne tap mobile\n\n+13126266799\,\,83126310769#\,\,\,\,*626607# US (Chicago)\n\n+19292056099\,\,83126310769#\,\,\,\,*626607# US (New York)\n\n\n\nDial by your location\n\n        +1 312 626 6799 US (Chicago)
X-ALT-DESC;FMTTYPE=text/html:SSA 38 Northcenter Commission Meeting&nbsp\;&nbsp\;&nbsp\;&nbsp\;<br />\n<br />\n<span style="color: rgb(34\, 34\, 34)\; font-family: Arial\, Helvetica\, sans-serif\; font-size: small\;">Eileen Keleghan is inviting you to a scheduled Zoom meeting.</span><br style="color: rgb(34\, 34\, 34)\; font-family: Arial\, Helvetica\, sans-serif\; font-size: small\;" />\n<br style="color: rgb(34\, 34\, 34)\; font-family: Arial\, Helvetica\, sans-serif\; font-size: small\;" />\n<span style="color: rgb(34\, 34\, 34)\; font-family: Arial\, Helvetica\, sans-serif\; font-size: small\;">Topic: SSA 38 Commission Meeting</span><br style="color: rgb(34\, 34\, 34)\; font-family: Arial\, Helvetica\, sans-serif\; font-size: small\;" />\n<span style="color: rgb(34\, 34\, 34)\; font-family: Arial\, Helvetica\, sans-serif\; font-size: small\;">Time: Dec 2\, 2021 09:00 AM Central Time (US and Canada)</span><br style="color: rgb(34\, 34\, 34)\; font-family: Arial\, Helvetica\, sans-serif\; font-size: small\;" />\n<br style="color: rgb(34\, 34\, 34)\; font-family: Arial\, Helvetica\, sans-serif\; font-size: small\;" />\n<span style="color: rgb(34\, 34\, 34)\; font-family: Arial\, Helvetica\, sans-serif\; font-size: small\;">Join Zoom Meeting</span><br style="color: rgb(34\, 34\, 34)\; font-family: Arial\, Helvetica\, sans-serif\; font-size: small\;" />\n<a data-saferedirecturl="https://www.google.com/url?q=https://us02web.zoom.us/j/83126310769?pwd%3DdDRQN3VlUmtEYnVkQXU0SDV4aXYwUT09&amp\;source=gmail&amp\;ust=1638496758790000&amp\;usg=AOvVaw0iNbEF9DQ6HVTlbKS2ER8F" href="https://us02web.zoom.us/j/83126310769?pwd=dDRQN3VlUmtEYnVkQXU0SDV4aXYwUT09" style="color: rgb(17\, 85\, 204)\; font-family: Arial\, Helvetica\, sans-serif\; font-size: small\;" target="_blank">https://us02web.zoom.us/j/<wbr />83126310769?pwd=<wbr />dDRQN3VlUmtEYnVkQXU0SDV4aXYwUT<wbr />09</a><br style="color: rgb(34\, 34\, 34)\; font-family: Arial\, Helvetica\, sans-serif\; font-size: small\;" />\n<br style="color: rgb(34\, 34\, 34)\; font-family: Arial\, Helvetica\, sans-serif\; font-size: small\;" />\n<span style="color: rgb(34\, 34\, 34)\; font-family: Arial\, Helvetica\, sans-serif\; font-size: small\;">Meeting ID: 831 2631 0769</span><br style="color: rgb(34\, 34\, 34)\; font-family: Arial\, Helvetica\, sans-serif\; font-size: small\;" />\n<span style="color: rgb(34\, 34\, 34)\; font-family: Arial\, Helvetica\, sans-serif\; font-size: small\;">One tap mobile</span><br style="color: rgb(34\, 34\, 34)\; font-family: Arial\, Helvetica\, sans-serif\; font-size: small\;" />\n<span style="color: rgb(34\, 34\, 34)\; font-family: Arial\, Helvetica\, sans-serif\; font-size: small\;">+13126266799\,\,83126310769#\,\,\,\,</span><wbr style="color: rgb(34\, 34\, 34)\; font-family: Arial\, Helvetica\, sans-serif\; font-size: small\;" /><span style="color: rgb(34\, 34\, 34)\; font-family: Arial\, Helvetica\, sans-serif\; font-size: small\;">*626607# US (Chicago)</span><br style="color: rgb(34\, 34\, 34)\; font-family: Arial\, Helvetica\, sans-serif\; font-size: small\;" />\n<span style="color: rgb(34\, 34\, 34)\; font-family: Arial\, Helvetica\, sans-serif\; font-size: small\;">+19292056099\,\,83126310769#\,\,\,\,</span><wbr style="color: rgb(34\, 34\, 34)\; font-family: Arial\, Helvetica\, sans-serif\; font-size: small\;" /><span style="color: rgb(34\, 34\, 34)\; font-family: Arial\, Helvetica\, sans-serif\; font-size: small\;">*626607# US (New York)</span><br style="color: rgb(34\, 34\, 34)\; font-family: Arial\, Helvetica\, sans-serif\; font-size: small\;" />\n<br style="color: rgb(34\, 34\, 34)\; font-family: Arial\, Helvetica\, sans-serif\; font-size: small\;" />\n<span style="color: rgb(34\, 34\, 34)\; font-family: Arial\, Helvetica\, sans-serif\; font-size: small\;">Dial by your location</span><br style="color: rgb(34\, 34\, 34)\; font-family: Arial\, Helvetica\, sans-serif\; font-size: small\;" />\n<span style="color: rgb(34\, 34\, 34)\; font-family: Arial\, Helvetica\, sans-serif\; font-size: small\;">&nbsp\; &nbsp\; &nbsp\; &nbsp\; +1 312 626 6799 US (Chicago)</span>
LOCATION:Northcenter Chamber Office 4054 N Lincoln Ave in person - with Zoom call in #
UID:e.1775.16374
SEQUENCE:3
DTSTAMP:20260420T183551Z
URL:https://business.northcenterchamber.com/events/details/ssa-38-commission-meeting-12-2-21-16374
END:VEVENT

END:VCALENDAR
