BEGIN:VCALENDAR
VERSION:2.0
PRODID:-//ChamberMaster//Event Calendar 2.0//EN
METHOD:PUBLISH
X-PUBLISHED-TTL:P3D
REFRESH-INTERVAL:P3D
CALSCALE:GREGORIAN
BEGIN:VEVENT
DTSTART:20200910T150000Z
DTEND:20200910T160000Z
X-MICROSOFT-CDO-ALLDAYEVENT:FALSE
SUMMARY:SSA 38 Commission Meeting
DESCRIPTION:SSA #38 Commissioners Meeting \n\n\n\nSeptember 10th\, 2020 @ 10 a.m. (Agenda) (Zoom Link)
X-ALT-DESC;FMTTYPE=text/html:SSA #38 Commissioners Meeting&nbsp\;<br />\n<br />\nSeptember 10th\, 2020 @ 10 a.m. (<a href="https://chambermaster.blob.core.windows.net/userfiles/UserFiles/chambers/1775/CMS/SSA-Agenda---Sept-2020.docx">Agenda</a>) (<a href="https://us02web.zoom.us/j/88571663391">Zoom Link</a>)\n<p>&nbsp\;</p>\n
LOCATION:
UID:e.1775.15866
SEQUENCE:3
DTSTAMP:20260425T223429Z
URL:https://business.northcenterchamber.com/events/details/ssa-38-commission-meeting-15866
END:VEVENT

END:VCALENDAR
