BEGIN:VCALENDAR
VERSION:2.0
PRODID:-//ChamberMaster//Event Calendar 2.0//EN
METHOD:PUBLISH
X-PUBLISHED-TTL:P3D
REFRESH-INTERVAL:P3D
CALSCALE:GREGORIAN
BEGIN:VEVENT
DTSTART:20210428T140000Z
DTEND:20210428T150000Z
X-MICROSOFT-CDO-ALLDAYEVENT:FALSE
SUMMARY:SSA 38 Commission Meeting 4.28.21
DESCRIPTION:SSA 38 Commission Meeting
X-ALT-DESC;FMTTYPE=text/html:SSA 38 Commission Meeting
LOCATION:Virtually on Zoom Lindsay Eanet is inviting you to a scheduled Zoom meeting. Topic: SSA 38 Commission Meeting Time: Apr 28\, 2021 09:00 AM Central Time (US and Canada) Join Zoom Meeting https://us02web.zoom.us/j/84863454120?pwd=VFhtMUNEd2oxRTJQN3VYeGhKWW9nQT09 Meeting ID: 848 6345 4120 Passcode: 817724 One tap mobile +13126266799\,\,84863454120#\,\,\,\,*817724# US (Chicago) +13017158592\,\,84863454120#\,\,\,\,*817724# US (Washington DC) Dial by your location +1 312 626 6799 US (Chicago) +1 301 715 8592 US (Washington DC) +1 646 558 8656 US (New York) +1 253 215 8782 US (Tacoma) +1 346 248 7799 US (Houston) +1 669 900 9128 US (San Jose) Meeting ID: 848 6345 4120 Passcode: 817724 Find your local number: https://us02web.zoom.us/u/kb9MXq3bYh
UID:e.1775.16116
SEQUENCE:3
DTSTAMP:20260423T100446Z
URL:https://business.northcenterchamber.com/events/details/ssa-38-commission-meeting-4-28-21-16116
END:VEVENT

END:VCALENDAR
