BEGIN:VCALENDAR
VERSION:2.0
PRODID:-//ChamberMaster//Event Calendar 2.0//EN
METHOD:PUBLISH
X-PUBLISHED-TTL:P3D
REFRESH-INTERVAL:P3D
CALSCALE:GREGORIAN
BEGIN:VEVENT
DTSTART:20210430T131500Z
DTEND:20210430T140000Z
X-MICROSOFT-CDO-ALLDAYEVENT:FALSE
SUMMARY:SSA 38 Commission Meeting 4.30.21
DESCRIPTION:SSA 38 Commission Meeting - Join Meeting\n\nThis is a reconvening on the agenda for the Wednesday\, April 28th Commission meeting.
X-ALT-DESC;FMTTYPE=text/html:SSA 38 Commission Meeting - <a href="https://us02web.zoom.us/j/85875700806?pwd=VStieU0rWWFkOTVtcFJZdWkySldhZz09">Join Meeting</a><br />\nThis is a reconvening on the agenda for the Wednesday\, April 28th Commission meeting.
LOCATION:Eileen Keleghan is inviting you to a scheduled Zoom meeting. Topic: SSA 38 Commissioners' Meeting Time: Apr 30\, 2021 08:15 AM Central Time (US and Canada) Join Zoom Meeting https://us02web.zoom.us/j/85875700806?pwd=VStieU0rWWFkOTVtcFJZdWkySldhZz09 Meeting ID: 858 7570 0806 Passcode: 495672 One tap mobile +13126266799\,\,85875700806#\,\,\,\,*495672# US (Chicago) +13017158592\,\,85875700806#\,\,\,\,*495672# US (Washington DC) Dial by your location +1 312 626 6799 US (Chicago) +1 301 715 8592 US (Washington DC) +1 929 205 6099 US (New York) +1 253 215 8782 US (Tacoma) +1 346 248 7799 US (Houston) +1 669 900 6833 US (San Jose) Meeting ID: 858 7570 0806 Passcode: 495672 Find your local number: https://us02web.zoom.us/u/kBKL4rGNx
UID:e.1775.16246
SEQUENCE:3
DTSTAMP:20260423T101853Z
URL:https://business.northcenterchamber.com/events/details/ssa-38-commission-meeting-4-30-21-16246
END:VEVENT

END:VCALENDAR
