BEGIN:VCALENDAR
VERSION:2.0
PRODID:-//ChamberMaster//Event Calendar 2.0//EN
METHOD:PUBLISH
X-PUBLISHED-TTL:P3D
REFRESH-INTERVAL:P3D
CALSCALE:GREGORIAN
BEGIN:VEVENT
DTSTART:20201211T160000Z
DTEND:20201211T170000Z
X-MICROSOFT-CDO-ALLDAYEVENT:FALSE
SUMMARY:SSA 38 Commission Meeting: postponed
DESCRIPTION:SSA 38 Commission Meeting
X-ALT-DESC;FMTTYPE=text/html:SSA 38 Commission Meeting&nbsp\;&nbsp\;&nbsp\;&nbsp\;
LOCATION:Open Meeting Virtual meeting on Zoom
UID:e.1775.16044
SEQUENCE:3
DTSTAMP:20260425T155716Z
URL:https://business.northcenterchamber.com/events/details/ssa-38-commission-meeting-postponed-16044
END:VEVENT

END:VCALENDAR
