BEGIN:VCALENDAR
VERSION:2.0
PRODID:-//ChamberMaster//Event Calendar 2.0//EN
METHOD:PUBLISH
X-PUBLISHED-TTL:P3D
REFRESH-INTERVAL:P3D
CALSCALE:GREGORIAN
BEGIN:VEVENT
DTSTART:20200501T150000Z
DTEND:20200501T160000Z
X-MICROSOFT-CDO-ALLDAYEVENT:FALSE
SUMMARY:SSA 38 Commissioner Meeting
DESCRIPTION:Lindsay Eanet is inviting you to a scheduled Zoom meeting.\n\n\n\nTopic: SSA 38 Commission Meeting\n\nTime: May 1\, 2020 10:00 AM Central Time (US and Canada)\n\n\n\nJoin Zoom Meeting\n\nhttps://zoom.us/j/97351104501\n\n\n\nMeeting ID: 973 5110 4501\n\nOne tap mobile\n\n+13126266799\,\,97351104501# US (Chicago)\n\n+19294362866\,\,97351104501# US (New York)\n\n\n\nDial by your location\n\n        +1 312 626 6799 US (Chicago)\n\n        +1 929 436 2866 US (New York)\n\n        +1 669 900 6833 US (San Jose)\n\n        +1 253 215 8782 US\n\n        +1 301 715 8592 US\n\n        +1 346 248 7799 US (Houston)\n\nMeeting ID: 973 5110 4501\n\nFind your local number: https://zoom.us/u/adwpbe8XCx
X-ALT-DESC;FMTTYPE=text/html:Lindsay Eanet is inviting you to a scheduled Zoom meeting.<br />\n<br />\nTopic: SSA 38 Commission Meeting<br />\nTime: May 1\, 2020 10:00 AM Central Time (US and Canada)<br />\n<br />\nJoin Zoom Meeting<br />\n<a href="https://zoom.us/j/97351104501">https://zoom.us/j/97351104501</a><br />\n<br />\nMeeting ID: 973 5110 4501<br />\nOne tap mobile<br />\n+13126266799\,\,97351104501# US (Chicago)<br />\n+19294362866\,\,97351104501# US (New York)<br />\n<br />\nDial by your location<br />\n&nbsp\; &nbsp\; &nbsp\; &nbsp\; +1 312 626 6799 US (Chicago)<br />\n&nbsp\; &nbsp\; &nbsp\; &nbsp\; +1 929 436 2866 US (New York)<br />\n&nbsp\; &nbsp\; &nbsp\; &nbsp\; +1 669 900 6833 US (San Jose)<br />\n&nbsp\; &nbsp\; &nbsp\; &nbsp\; +1 253 215 8782 US<br />\n&nbsp\; &nbsp\; &nbsp\; &nbsp\; +1 301 715 8592 US<br />\n&nbsp\; &nbsp\; &nbsp\; &nbsp\; +1 346 248 7799 US (Houston)<br />\nMeeting ID: 973 5110 4501<br />\nFind your local number: https://zoom.us/u/adwpbe8XCx<br />\n
LOCATION:Virtual Zoom Meeting
UID:e.1775.13756
SEQUENCE:3
DTSTAMP:20260426T034429Z
URL:https://business.northcenterchamber.com/events/details/ssa-38-commissioner-meeting-04-24-2020-13756
END:VEVENT

END:VCALENDAR
