BEGIN:VCALENDAR
VERSION:2.0
PRODID:-//ChamberMaster//Event Calendar 2.0//EN
METHOD:PUBLISH
X-PUBLISHED-TTL:P3D
REFRESH-INTERVAL:P3D
CALSCALE:GREGORIAN
BEGIN:VEVENT
DTSTART:20211028T140000Z
DTEND:20211028T150000Z
X-MICROSOFT-CDO-ALLDAYEVENT:FALSE
SUMMARY:SSA 38 Northcenter Commission Meeting
DESCRIPTION:SSA 38 Commission Meeting
X-ALT-DESC;FMTTYPE=text/html:SSA 38 Commission Meeting&nbsp\;&nbsp\;&nbsp\;&nbsp\;
LOCATION:Attend in person 4054 N Lincoln Ave Attend virtually Eileen Keleghan is inviting you to a scheduled Zoom meeting. Topic: SSA 38 Commission Meeting Time: Oct 28\, 2021 09:00 AM Central Time (US and Canada) Join Zoom Meeting https://us02web.zoom.us/j/82410861026 Meeting ID: 824 1086 1026 One tap mobile +13126266799\,\,82410861026# US (Chicago)
UID:e.1775.16362
SEQUENCE:3
DTSTAMP:20260420T214435Z
URL:https://business.northcenterchamber.com/events/details/ssa-38-northcenter-commission-meeting-16362
END:VEVENT

END:VCALENDAR
