BEGIN:VCALENDAR
VERSION:2.0
PRODID:-//ChamberMaster//Event Calendar 2.0//EN
METHOD:PUBLISH
X-PUBLISHED-TTL:P3D
REFRESH-INTERVAL:P3D
CALSCALE:GREGORIAN
BEGIN:VEVENT
DTSTART:20220408T220000Z
DTEND:20220409T010000Z
X-MICROSOFT-CDO-ALLDAYEVENT:FALSE
SUMMARY:St Andrew's Fish Fry
DESCRIPTION:Saint Andrew Fish Fry\n\n\n\nFriday April 8th from 5 - 8PM\n\n\n\nSaint Andrew Gym at Addison and Paulina\n\n\n\nFish Basket ~ Mac & Chees Basket ~ BYOB\n\n\n\nOrder your dinners today
X-ALT-DESC;FMTTYPE=text/html:<span style="font-size:14px\;"><strong>Saint Andrew Fish Fry</strong></span><br />\n<br />\nFriday April 8th from 5 - 8PM<br />\n<br />\nSaint Andrew Gym at Addison and Paulina<br />\n<br />\nFish Basket ~ Mac &amp\; Chees Basket ~ BYOB<br />\n<br />\n<u><strong><a href="https://saintandrew.ejoinme.org/MyEvents/LentenFishFry/Buytickets/tabid/1290969/Default.aspx">Order your dinners today</a></strong></u>&nbsp\;
LOCATION:Addison & Paulina
UID:e.1775.16849
SEQUENCE:3
DTSTAMP:20260420T120542Z
URL:https://business.northcenterchamber.com/events/details/st-andrew-s-fish-fry-16849
END:VEVENT

END:VCALENDAR
