BEGIN:VCALENDAR
VERSION:2.0
PRODID:-//ChamberMaster//Event Calendar 2.0//EN
METHOD:PUBLISH
X-PUBLISHED-TTL:P3D
REFRESH-INTERVAL:P3D
CALSCALE:GREGORIAN
BEGIN:VEVENT
DTSTART:20211001T200000Z
DTEND:20211004T000000Z
X-MICROSOFT-CDO-ALLDAYEVENT:FALSE
SUMMARY:St. Benedict Oktoberfest
DESCRIPTION:"St. Benedict's Oktoberfest & Carnival" A celebration of community in the tradition of St. Ben's German Roots! True to the customs of the Bavarian festival\, St. Benedict's Oktoberfest promises entertainment for the whole family\, with music\, food\, beverages\, carnival rides and games! Cheerful toasts of "zum wohl" and shouts of "prost!" Will resonate through the parish courtyard once more as we celebrate our German roots with the 55th annual Oktoberfest October 1st through 3rd. Proceeds from the festival are utilized to benefit local outreach\, programming\, and fund church operations\, restoration and other parish initiatives. There is no admission fee\, but tickets for food\, drink\, and rides can be purchased at the event. Oktoberfest Hours - Friday\, Oct 1: 3:00 PM   10:00 PM - Saturday\, Oct 2: 1:00 PM   10:00 PM - Sunday\, Oct 3: 1:00 PM   7:00 PM Find more details at https://parish.stbenedict.com/oktoberfest-home PLEASE EMAIL US AT OKTOBERFEST2021@STBENEDICT.COM. THANK YOU! St. Benedict Oktoberfest is at 2215 W. Irving Park Rd on the north side of Chicago. The fest is in the enclosed parish courtyard. Enter on Irving Park Rd just west of the church. The fest can be reached via CTA bus (#80 Irving Park\, #49 Western or #50 Damen)\, and 4 blocks west of the Brown Line train Irving Park stop.
X-ALT-DESC;FMTTYPE=text/html:&quot\;St. Benedict&#39\;s Oktoberfest &amp\; Carnival&quot\; A celebration of community in the tradition of St. Ben&#39\;s German Roots! True to the customs of the Bavarian festival\, St. Benedict&rsquo\;s Oktoberfest promises entertainment for the whole family\, with music\, food\, beverages\, carnival rides and games! Cheerful toasts of &ldquo\;zum wohl&rdquo\; and shouts of &ldquo\;prost!&rdquo\; Will resonate through the parish courtyard once more as we celebrate our German roots with the 55th annual Oktoberfest October 1st through 3rd. Proceeds from the festival are utilized to benefit local outreach\, programming\, and fund church operations\, restoration and other parish initiatives. There is no admission fee\, but tickets for food\, drink\, and rides can be purchased at the event. Oktoberfest Hours - Friday\, Oct 1: 3:00 PM &ndash\; 10:00 PM - Saturday\, Oct 2: 1:00 PM &ndash\; 10:00 PM - Sunday\, Oct 3: 1:00 PM &ndash\; 7:00 PM Find more details at https://parish.stbenedict.com/oktoberfest-home PLEASE EMAIL US AT OKTOBERFEST2021@STBENEDICT.COM. THANK YOU! St. Benedict Oktoberfest is at 2215 W. Irving Park Rd on the north side of Chicago. The fest is in the enclosed parish courtyard. Enter on Irving Park Rd just west of the church. The fest can be reached via CTA bus (#80 Irving Park\, #49 Western or #50 Damen)\, and 4 blocks west of the Brown Line train Irving Park stop.
LOCATION:St. Benedict Courtyard 2215 W. Irving Park Rd
UID:e.1775.16354
SEQUENCE:3
DTSTAMP:20260420T214302Z
URL:https://business.northcenterchamber.com/events/details/st-benedict-oktoberfest-16354
END:VEVENT

END:VCALENDAR
