BEGIN:VCALENDAR
VERSION:2.0
PRODID:-//ChamberMaster//Event Calendar 2.0//EN
METHOD:PUBLISH
X-PUBLISHED-TTL:P3D
REFRESH-INTERVAL:P3D
CALSCALE:GREGORIAN
BEGIN:VEVENT
DTSTART:20220312T160000Z
DTEND:20220312T230000Z
X-MICROSOFT-CDO-ALLDAYEVENT:FALSE
SUMMARY:ST PATRICK'S DAY at O'Donovan's
DESCRIPTION:The Hottest St. Patrick's Day Party\n\nSelect Tickets Here
X-ALT-DESC;FMTTYPE=text/html:<strong>The Hottest St. Patrick&#39\;s Day Party</strong><br />\n<a href="https://tickets.youcantdrinkallday.com/e/st-patricks-day-party-ycdad-at-odonovans-chicago/tickets">Select Tickets Here</a><br />\n&nbsp\;
LOCATION:2100 W Irving Park Road\, Chicago\, IL
UID:e.1775.16847
SEQUENCE:3
DTSTAMP:20260420T134348Z
URL:https://business.northcenterchamber.com/events/details/st-patrick-s-day-at-o-donovan-s-16847
END:VEVENT

END:VCALENDAR
