BEGIN:VCALENDAR
VERSION:2.0
PRODID:-//ChamberMaster//Event Calendar 2.0//EN
METHOD:PUBLISH
X-PUBLISHED-TTL:P3D
REFRESH-INTERVAL:P3D
CALSCALE:GREGORIAN
BEGIN:VEVENT
DTSTART:20210304T003000Z
DTEND:20210304T013000Z
X-MICROSOFT-CDO-ALLDAYEVENT:FALSE
SUMMARY:State of the County with Commissioners Gainer & Degnen
DESCRIPTION:Join us for the first in a series of talks about what's happening with your state and local government. Join Cook County Commissioners Bridget Gainer and Bridget Degnen for a conversation with updates on what's happening at the county level\, resources available for you and your business & an opportunity for a brief Q&A.
X-ALT-DESC;FMTTYPE=text/html:Join us for the first in a series of talks about what&#39\;s happening with your state and local government. Join Cook County Commissioners Bridget Gainer and Bridget Degnen for a conversation with updates on what&#39\;s happening at the county level\, resources available for you and your business &amp\; an opportunity for a brief Q&amp\;A.&nbsp\;
LOCATION:Zoom - Click here to join!
UID:e.1775.16066
SEQUENCE:3
DTSTAMP:20260421T115721Z
URL:https://business.northcenterchamber.com/events/details/state-of-the-county-with-commissioners-gainer-degnen-16066
END:VEVENT

END:VCALENDAR
