BEGIN:VCALENDAR
VERSION:2.0
PRODID:-//ChamberMaster//Event Calendar 2.0//EN
METHOD:PUBLISH
X-PUBLISHED-TTL:P3D
REFRESH-INTERVAL:P3D
CALSCALE:GREGORIAN
BEGIN:VEVENT
DTSTART:20210729T000000Z
DTEND:20210729T013000Z
X-MICROSOFT-CDO-ALLDAYEVENT:FALSE
SUMMARY:Summer Concert Series: Adjacent Cruise
DESCRIPTION:We're back! The Northcenter Chamber of Commerce is proud to announce the return of our beloved Summer Concert Series in the new Town Square! This limited four-show run begins July 14th at 7 p.m. Bring a chair or blanket\, gather your family & join us for complimentary live music & family fun! \n\n\n\nJuly 14th - The Polkaholics\n\nJuly 28th - Adjacent Cruise\n\nAugust 11th - Ludlow\n\nAugust 28th - Black Oil Brothers\n\n\n\nFace coverings are optional for fully vaccinated guests. Social distancing between parties is encouraged.\n\n\n\nThis program is supported in part/made possible by a grant from the Chicago Department of Cultural Affairs and Special Events with funding from the Walder Foundation.
X-ALT-DESC;FMTTYPE=text/html:We&#39\;re back! The Northcenter Chamber of Commerce is proud to announce the return of our beloved Summer Concert Series in the new Town Square! This limited four-show run begins July 14th at 7 p.m. Bring a chair or blanket\, gather your family &amp\; join us for complimentary live music &amp\; family fun!&nbsp\;<br />\n<br />\nJuly 14th - The Polkaholics<br />\nJuly 28th - Adjacent Cruise<br />\nAugust 11th - Ludlow<br />\nAugust 28th - Black Oil Brothers<br />\n<br />\nFace coverings are optional for fully vaccinated guests. Social distancing between parties is encouraged.<br />\n<br />\nThis program is supported in part/made possible by a grant from the Chicago Department of Cultural Affairs and Special Events with funding from the Walder Foundation.&nbsp\;&nbsp\;
LOCATION:Northcenter Town Square 4100 N. Damen
UID:e.1775.16310
SEQUENCE:3
DTSTAMP:20260421T030210Z
URL:https://business.northcenterchamber.com/events/details/summer-concert-series-adjacent-cruise-16310
END:VEVENT

END:VCALENDAR
