BEGIN:VCALENDAR
VERSION:2.0
PRODID:-//ChamberMaster//Event Calendar 2.0//EN
METHOD:PUBLISH
X-PUBLISHED-TTL:P3D
REFRESH-INTERVAL:P3D
CALSCALE:GREGORIAN
BEGIN:VEVENT
DTSTART:20210812T000000Z
DTEND:20210812T020000Z
X-MICROSOFT-CDO-ALLDAYEVENT:FALSE
SUMMARY:Summer Concert Series in Northcenter Town Square
DESCRIPTION:Join us on Wednesdays 7/14\, 7/28\, 8/11 and 8/25 for the return of the Northcenter Summer Concert Series in Northcenter Town Square! \n\n\n\nBring your own blanket or chair! \n\n\n\nFeaturing: \n\n \nThe Polkaholics - July 14\n\nAdjacent Cruise - July 28\n\nLudlow - Aug 11\n\nBlack Oil Brothers - Aug 25
X-ALT-DESC;FMTTYPE=text/html:Join us on Wednesdays 7/14\, 7/28\, 8/11 and 8/25 for the return of the Northcenter Summer Concert Series in Northcenter Town Square!&nbsp\;<br />\n<br />\nBring your own blanket or chair!&nbsp\;<br />\n<br />\nFeaturing:&nbsp\;<br />\n&nbsp\;\n<div dir="auto" style="font-family: Arial\, Helvetica\, sans-serif\; font-size: 1rem\; color: rgb(49\, 49\, 49)\; word-spacing: 1px\;">The Polkaholics - July 14</div>\n\n<div dir="auto" style="font-family: Arial\, Helvetica\, sans-serif\; font-size: 1rem\; color: rgb(49\, 49\, 49)\; word-spacing: 1px\;">Adjacent Cruise - July 28<br />\nLudlow&nbsp\;- Aug 11<br />\nBlack Oil Brothers - Aug 25</div>\n
LOCATION:Northcenter Town Square 4100 N Damen Ave
UID:e.1775.16300
SEQUENCE:3
DTSTAMP:20260421T011931Z
URL:https://business.northcenterchamber.com/events/details/summer-concert-series-in-northcenter-town-square-08-11-2021-16300
END:VEVENT

END:VCALENDAR
