BEGIN:VCALENDAR
VERSION:2.0
PRODID:-//ChamberMaster//Event Calendar 2.0//EN
METHOD:PUBLISH
X-PUBLISHED-TTL:P3D
REFRESH-INTERVAL:P3D
CALSCALE:GREGORIAN
BEGIN:VEVENT
DTSTART:20220319T000000Z
DTEND:20220319T020000Z
X-MICROSOFT-CDO-ALLDAYEVENT:FALSE
SUMMARY:Summer Concert Series in Northcenter Town Square
DESCRIPTION:Join us on Wednesdays July 6\, 13\, 20\, 27 and August 3\, & 10 for the return of the Northcenter Summer Concert Series in Northcenter Town Square! \n\n\n\nBring your own blanket or chair! \n\n\n\nStay tuned for our upcoming bands!
X-ALT-DESC;FMTTYPE=text/html:Join us on Wednesdays July 6\, 13\, 20\, 27 and August 3\, &amp\; 10 for the return of the Northcenter Summer Concert Series in Northcenter Town Square!&nbsp\;<br />\n<br />\nBring your own blanket or chair!&nbsp\;<br />\n<br />\nStay tuned for our upcoming bands!\n<div dir="auto" style="font-family: Arial\, Helvetica\, sans-serif\; font-size: 1rem\; color: rgb(49\, 49\, 49)\; word-spacing: 1px\;">&nbsp\;</div>\n
LOCATION:Northcenter Town Square 4100 N Damen Ave
UID:e.1775.16948
SEQUENCE:3
DTSTAMP:20260420T134833Z
URL:https://business.northcenterchamber.com/events/details/summer-concert-series-in-northcenter-town-square-16948
END:VEVENT

END:VCALENDAR
