BEGIN:VCALENDAR
VERSION:2.0
PRODID:-//ChamberMaster//Event Calendar 2.0//EN
METHOD:PUBLISH
X-PUBLISHED-TTL:P3D
REFRESH-INTERVAL:P3D
CALSCALE:GREGORIAN
BEGIN:VEVENT
DTSTART:20200920T230000Z
DTEND:20200921T003000Z
X-MICROSOFT-CDO-ALLDAYEVENT:FALSE
SUMMARY:Tartle at the Duke: A Live Lit Show
DESCRIPTION:Tartle at the Duke is a monthly live lit series featuring Chicago's funniest writers\, hosted by Gina DeLuca and Sarah Ashley.
X-ALT-DESC;FMTTYPE=text/html:<span style="color: rgb(29\, 33\, 41)\; font-family: Helvetica\, Arial\, sans-serif\; font-size: 14px\; white-space: pre-wrap\;">Tartle at the Duke is a monthly live lit series featuring Chicago&#39\;s funniest writers\, hosted by Gina DeLuca and Sarah Ashley. </span>
LOCATION:Northcenter Town Square\, 4100 N. Damen
UID:e.1775.15862
SEQUENCE:3
DTSTAMP:20260425T223613Z
URL:https://business.northcenterchamber.com/events/details/tartle-at-the-duke-a-live-lit-show-15862
END:VEVENT

END:VCALENDAR
