BEGIN:VCALENDAR
VERSION:2.0
PRODID:-//ChamberMaster//Event Calendar 2.0//EN
METHOD:PUBLISH
X-PUBLISHED-TTL:P3D
REFRESH-INTERVAL:P3D
CALSCALE:GREGORIAN
BEGIN:VEVENT
DTSTART:20200510T150000Z
DTEND:20200510T154500Z
X-MICROSOFT-CDO-ALLDAYEVENT:FALSE
SUMMARY:TFI FIT Mom Pilates
DESCRIPTION:Celebrating our FIT Moms the best way we know how... exercise! TFI is hosting a special virtual class for Mother's Day. FREE for the whole family!
X-ALT-DESC;FMTTYPE=text/html:Celebrating our FIT Moms the best way we know how... exercise! TFI is hosting a special virtual class for Mother&#39\;s Day. FREE for the whole family!
LOCATION:ZOOM
UID:e.1775.14313
SEQUENCE:3
DTSTAMP:20260426T033740Z
URL:https://business.northcenterchamber.com/events/details/tfi-fit-mom-pilates-14313
END:VEVENT

END:VCALENDAR
