BEGIN:VCALENDAR
VERSION:2.0
PRODID:-//ChamberMaster//Event Calendar 2.0//EN
METHOD:PUBLISH
X-PUBLISHED-TTL:P3D
REFRESH-INTERVAL:P3D
CALSCALE:GREGORIAN
BEGIN:VEVENT
DTSTART:20200501T200000Z
DTEND:20200501T203000Z
X-MICROSOFT-CDO-ALLDAYEVENT:FALSE
SUMMARY:TFI LIVE: DANCE
DESCRIPTION:Tune into our Instagram and Facebook accounts to dance your hearts out in your own home! Daniela has created her  BAILE! Workout to be a fun-filled cardio dance workout that gets your heart rate up while also jamming to Hispanic tunes! Instagram: @tfichicago Facebook: /thefitinstitutechicago
X-ALT-DESC;FMTTYPE=text/html:Tune into our Instagram and Facebook accounts to dance your hearts out in your own home! Daniela has created her &iexcl\;BAILE! Workout to be a fun-filled cardio dance workout that gets your heart rate up while also jamming to Hispanic tunes! Instagram: @tfichicago Facebook: /thefitinstitutechicago
LOCATION:
UID:e.1775.14283
SEQUENCE:3
DTSTAMP:20260426T033112Z
URL:https://business.northcenterchamber.com/events/details/tfi-live-dance-14283
END:VEVENT

END:VCALENDAR
