BEGIN:VCALENDAR
VERSION:2.0
PRODID:-//ChamberMaster//Event Calendar 2.0//EN
METHOD:PUBLISH
X-PUBLISHED-TTL:P3D
REFRESH-INTERVAL:P3D
CALSCALE:GREGORIAN
BEGIN:VEVENT
DTSTART:20200622T180000Z
DTEND:20200718T190000Z
X-MICROSOFT-CDO-ALLDAYEVENT:FALSE
SUMMARY:TFI Youth Sports Performance Camp
DESCRIPTION:**SESSION 1** *JUNE 22- JULY 18\, 2020*\n\nMonday\, Wednesday\, Friday \n\n8-13 years old: 1:00-2:00pm\n\n+14 years old: 2:00-3:00pm \n\nSaturday's \n\n8-13 years old: 12:00-1:00pm\n\n+14 years old: 1:00-2:00pm \n\n\n\nDepending on the state and health of our community\, we are prepared to go virtual split class size into small groups and/or do some of both. We will work with your family!
X-ALT-DESC;FMTTYPE=text/html:**SESSION 1** *JUNE 22- JULY 18\, 2020*<br />\n<u>Monday\, Wednesday\, Friday </u><br />\n8-13 years old: 1:00-2:00pm<br />\n+14 years old: 2:00-3:00pm&nbsp\;<br />\n<u>Saturday&rsquo\;s </u><br />\n8-13 years old: 12:00-1:00pm<br />\n+14 years old: 1:00-2:00pm&nbsp\;<br />\n<br />\nDepending on the state and health of our community\, we are prepared to go virtual split class size into small groups and/or do some of both. We will work with your family!&nbsp\;
LOCATION:The FIT Institute 2500 W Bradley Place Chicago IL 60618
UID:e.1775.14285
SEQUENCE:3
DTSTAMP:20260426T001339Z
URL:https://business.northcenterchamber.com/events/details/tfi-youth-sports-performance-camp-14285
END:VEVENT

END:VCALENDAR
