BEGIN:VCALENDAR
VERSION:2.0
PRODID:-//ChamberMaster//Event Calendar 2.0//EN
METHOD:PUBLISH
X-PUBLISHED-TTL:P3D
REFRESH-INTERVAL:P3D
CALSCALE:GREGORIAN
BEGIN:VEVENT
DTSTART:20201009T000000Z
DTEND:20201009T013000Z
X-MICROSOFT-CDO-ALLDAYEVENT:FALSE
SUMMARY:The Globe Pub Hosts a Virtual Beer Tasting
DESCRIPTION:To continue the food and drink celebration of RestauranTOUR Remixed\, join us for a special virtual happy hour tasting from the Northcenter Chamber and the Globe Pub. Our member has put together a fabulously curated 6-pack of local brews!\nVirtual Tasting Brews:\n\nDovetail Vienna Lager\n\nBegyle Free Bird - American Pale Ale\n\nTwisted Hippo Bees Sleaze - Midwest Common Ale\n\nMaplewood Endless Days - Wheat Beer\n\nPipeworks Mini Unicorns - IPA\n\nOld Irving Brewing Double Beezer - Double Dry Hopped IPA\nAs you taste\, Jon the Globe Pub's Beverage Manager will share his beer expertise. Enjoy with friends\, as a date night or just as a treat-yourself! We hope you'll join us and support a neighborhood pub.\n\n\n\nPre-Order & Pick-Up: By registering you have pre-ordered for one 6 pack of pre-selected tasting beer pack per ticket. Pick up begins on Wednesday\, Oct 7th:\n\n\n\nThe Globe Pub is located at 1934 W. Irving Park Rd.\n\nPick-up Hours on Wednesday: 11:00am - 9:00pm\n\n                                Thursday: 11:00am - 6:30pm \n\n\n\nPlease leave in the comments which day you plan to pick up your orders\, thanks!
X-ALT-DESC;FMTTYPE=text/html:<span style="font-size:12px\;"><span style="font-size:14px\;">To continue the food and drink celebration of RestauranTOUR Remixed\, join us for a special virtual happy hour tasting from the Northcenter Chamber and the Globe Pub. Our member has put together a fabulously curated 6-pack of local brews!</span></span>\n<p dir="ltr" style="line-height:1.38\;margin-top:10pt\;margin-bottom:10pt\;"><u><span id="docs-internal-guid-bcdde8e6-7fff-05da-3604-ac7f42a97b0a"><span style="font-size: 10pt\; font-family: Arial\; color: rgb(0\, 0\, 0)\; background-color: transparent\; font-variant-numeric: normal\; font-variant-east-asian: normal\; vertical-align: baseline\; white-space: pre-wrap\;">Virtual Tasting Brews:</span></span></u></p>\n\n<p dir="ltr" style="line-height:1.38\;margin-top:10pt\;margin-bottom:10pt\;"><span id="docs-internal-guid-bcdde8e6-7fff-05da-3604-ac7f42a97b0a"><span style="font-size: 10pt\; font-family: Arial\; color: rgb(0\, 0\, 0)\; background-color: transparent\; font-variant-numeric: normal\; font-variant-east-asian: normal\; vertical-align: baseline\; white-space: pre-wrap\;">Dovetail Vienna Lager</span></span></p>\n\n<p dir="ltr" style="line-height:1.38\;margin-top:10pt\;margin-bottom:10pt\;"><span id="docs-internal-guid-bcdde8e6-7fff-05da-3604-ac7f42a97b0a"><span style="font-size: 10pt\; font-family: Arial\; color: rgb(0\, 0\, 0)\; background-color: transparent\; font-variant-numeric: normal\; font-variant-east-asian: normal\; vertical-align: baseline\; white-space: pre-wrap\;">Begyle Free Bird - American Pale Ale</span></span></p>\n\n<p dir="ltr" style="line-height:1.38\;margin-top:10pt\;margin-bottom:10pt\;"><span id="docs-internal-guid-bcdde8e6-7fff-05da-3604-ac7f42a97b0a"><span style="font-size: 10pt\; font-family: Arial\; color: rgb(0\, 0\, 0)\; background-color: transparent\; font-variant-numeric: normal\; font-variant-east-asian: normal\; vertical-align: baseline\; white-space: pre-wrap\;">Twisted Hippo Bees Sleaze - Midwest Common Ale</span></span></p>\n\n<p dir="ltr" style="line-height:1.38\;margin-top:10pt\;margin-bottom:10pt\;"><span id="docs-internal-guid-bcdde8e6-7fff-05da-3604-ac7f42a97b0a"><span style="font-size: 10pt\; font-family: Arial\; color: rgb(0\, 0\, 0)\; background-color: transparent\; font-variant-numeric: normal\; font-variant-east-asian: normal\; vertical-align: baseline\; white-space: pre-wrap\;">Maplewood Endless Days - Wheat Beer</span></span></p>\n\n<p dir="ltr" style="line-height:1.38\;margin-top:10pt\;margin-bottom:10pt\;"><span id="docs-internal-guid-bcdde8e6-7fff-05da-3604-ac7f42a97b0a"><span style="font-size: 10pt\; font-family: Arial\; color: rgb(0\, 0\, 0)\; background-color: transparent\; font-variant-numeric: normal\; font-variant-east-asian: normal\; vertical-align: baseline\; white-space: pre-wrap\;">Pipeworks Mini Unicorns - IPA</span></span></p>\n\n<p dir="ltr" style="line-height:1.38\;margin-top:10pt\;margin-bottom:10pt\;"><span id="docs-internal-guid-bcdde8e6-7fff-05da-3604-ac7f42a97b0a"><span style="font-size: 10pt\; font-family: Arial\; color: rgb(0\, 0\, 0)\; background-color: transparent\; font-variant-numeric: normal\; font-variant-east-asian: normal\; vertical-align: baseline\; white-space: pre-wrap\;">Old Irving Brewing Double Beezer - Double Dry Hopped IPA</span></span></p>\n<span style="font-size:12px\;"><span style="font-size:14px\;">As you taste\, Jon the Globe Pub&#39\;s Beverage Manager will share his beer expertise. Enjoy with friends\, as a date night or just as a treat-yourself! We hope you&#39\;ll join us and support a neighborhood pub.<br />\n<br />\nPre-Order &amp\; Pick-Up: By registering you have pre-ordered for one 6 pack of pre-selected tasting beer pack per ticket. Pick up begins on Wednesday\, Oct 7th:<br />\n<br />\n<a href="https://www.theglobepub.com/">The Globe Pub</a> is located at&nbsp\;</span></span><span id="docs-internal-guid-8f69f760-7fff-7826-baf0-44f63ddf81d4"><span style="font-size: 10pt\; font-family: Arial\; font-variant-numeric: normal\; font-variant-east-asian: normal\; vertical-align: baseline\; white-space: pre-wrap\;">1934 W. Irving Park Rd.</span></span><br />\n<span style="font-size:12px\;"><span style="font-size:14px\;">Pick-up Hours on Wednesday: 11:00am - 9:00pm</span></span><br />\n&nbsp\;&nbsp\;&nbsp\;&nbsp\;&nbsp\;&nbsp\;&nbsp\;&nbsp\;&nbsp\;&nbsp\;&nbsp\;&nbsp\;&nbsp\;&nbsp\;&nbsp\;&nbsp\;&nbsp\;&nbsp\;&nbsp\;&nbsp\;&nbsp\;&nbsp\;&nbsp\;&nbsp\;&nbsp\;&nbsp\;&nbsp\;&nbsp\;&nbsp\;<span style="font-size:14px\;">&nbsp\; &nbsp\;Thursday: 11:00am - 6:30pm&nbsp\;</span><br />\n<br />\n<span style="font-size:12px\;"><span style="color: rgb(34\, 34\, 34)\; font-family: Roboto\, arial\, sans-serif\;"><span style="font-size:14px\;">Please leave in the comments which day you plan to pick up your orders\, thanks!</span></span></span>
LOCATION:via Zoom\, link will be sent to registrants the day of the event
UID:e.1775.16020
SEQUENCE:3
DTSTAMP:20260425T190311Z
URL:https://business.northcenterchamber.com/events/details/the-globe-pub-hosts-a-virtual-beer-tasting-16020
END:VEVENT

END:VCALENDAR
