BEGIN:VCALENDAR
VERSION:2.0
PRODID:-//ChamberMaster//Event Calendar 2.0//EN
METHOD:PUBLISH
X-PUBLISHED-TTL:P3D
REFRESH-INTERVAL:P3D
CALSCALE:GREGORIAN
BEGIN:VEVENT
DTSTART:20260503T170000Z
DTEND:20260503T210000Z
X-MICROSOFT-CDO-ALLDAYEVENT:FALSE
SUMMARY:The Volunteer Fair
DESCRIPTION:The Volunteer Fair is back this spring with even more opportunities to do impactful work in Chicago. No matter what interests your or what skills you bring\, there's an opportunity for everyone! Whether you're passionate about protecting the environment\, mentoring youth\, or advancing social justice\, there's an organization that needs you! The Volunteer Fair makes it easy for passionate people ready to get involved to connect with inspiring non-profits & community groups making our city stronger. Come to learn all the ways you can make a difference\, leave feeling inspired find your thing! In addition to 20+ super rad local organizations\, there will be plenty of opportunities to connect with others in your community\, passionate about building a better Chicago. Drinks will be available for purchase from our hosts at the River Room. The Volunteer Fair is free to attend\, but please let us know you're coming so we can share any important event updates. We can't wait to see you there!
X-ALT-DESC;FMTTYPE=text/html:The Volunteer Fair is back this spring with even more opportunities to do impactful work in Chicago. No matter what interests your or what skills you bring\, there&#39\;s an opportunity for everyone! Whether you&#39\;re passionate about protecting the environment\, mentoring youth\, or advancing social justice\, there&#39\;s an organization that needs you! The Volunteer Fair makes it easy for passionate people ready to get involved to connect with inspiring non-profits &amp\; community groups making our city stronger. Come to learn all the ways you can make a difference\, leave feeling inspired&mdash\;find your thing! In addition to 20+ super rad local organizations\, there will be plenty of opportunities to connect with others in your community\, passionate about building a better Chicago. Drinks will be available for purchase from our hosts at the River Room. The Volunteer Fair is free to attend\, but please let us know you&#39\;re coming so we can share any important event updates. We can&#39\;t wait to see you there!
LOCATION:The River Room at Burning Bush Brewery
UID:e.1775.21853
SEQUENCE:3
DTSTAMP:20260424T082739Z
URL:https://business.northcenterchamber.com/events/details/the-volunteer-fair-21853
END:VEVENT

END:VCALENDAR
