BEGIN:VCALENDAR
VERSION:2.0
PRODID:-//ChamberMaster//Event Calendar 2.0//EN
METHOD:PUBLISH
X-PUBLISHED-TTL:P3D
REFRESH-INTERVAL:P3D
CALSCALE:GREGORIAN
BEGIN:VEVENT
DTSTART:20200621T010000Z
DTEND:20200621T020000Z
X-MICROSOFT-CDO-ALLDAYEVENT:FALSE
SUMMARY:Third Coast Percussion: 2 World Premieres at New Music Gathering
DESCRIPTION:Grammy Award-winning quartet Third Coast Percussion present a program of works by composer/performers including 2 world premieres. Ayanna Woods   "Triple Point" (TCP commission) Robyn Jacob   "Transference and Zoosemiotics" (world premiere\, TCP commission\, Emerging Composers Partnership) Nik B rtsch   "Third Coast Culture" (world premiere\, TCP commission) This event is presented in partnership with the New Music Gathering.
X-ALT-DESC;FMTTYPE=text/html:Grammy Award-winning quartet Third Coast Percussion present a program of works by composer/performers including 2 world premieres. Ayanna Woods &mdash\; &quot\;Triple Point&quot\; (TCP commission) Robyn Jacob &mdash\; &quot\;Transference and Zoosemiotics&quot\; (world premiere\, TCP commission\, Emerging Composers Partnership) Nik B&auml\;rtsch &mdash\; &quot\;Third Coast Culture&quot\; (world premiere\, TCP commission) This event is presented in partnership with the New Music Gathering.
LOCATION:The internet
UID:e.1775.14411
SEQUENCE:3
DTSTAMP:20260426T034005Z
URL:https://business.northcenterchamber.com/events/details/third-coast-percussion-2-world-premieres-at-new-music-gathering-14411
END:VEVENT

END:VCALENDAR
