BEGIN:VCALENDAR
VERSION:2.0
PRODID:-//ChamberMaster//Event Calendar 2.0//EN
METHOD:PUBLISH
X-PUBLISHED-TTL:P3D
REFRESH-INTERVAL:P3D
CALSCALE:GREGORIAN
BEGIN:VEVENT
DTSTART:20200530T000000Z
DTEND:20200530T013000Z
X-MICROSOFT-CDO-ALLDAYEVENT:FALSE
SUMMARY:Third Coast Percussion performs Danny Elfman
DESCRIPTION:Join us for another Digital TCP live concert! We will perform a new work composed for us by four-time Oscar nominee Danny Elfman. This livestream performance of Elfman's new work\, Percussion Quartet\, will be complemented by exclusive\, never-before-seen interview footage with the composer captured via video conference call on March 23\, 2020\, as well as live Q&A with the members of Third Coast Percussion. his event is presented with lead support from Stanford Live. Additional support is provided by the Moss Arts Center at Virginia Tech and Denison University\, where Third Coast Percussion serves as an Ensemble-in-Residence.
X-ALT-DESC;FMTTYPE=text/html:Join us for another Digital TCP live concert! We will perform a new work composed for us by four-time Oscar nominee Danny Elfman. This livestream performance of Elfman&rsquo\;s new work\, Percussion Quartet\, will be complemented by exclusive\, never-before-seen interview footage with the composer captured via video conference call on March 23\, 2020\, as well as live Q&amp\;A with the members of Third Coast Percussion. his event is presented with lead support from Stanford Live. Additional support is provided by the Moss Arts Center at Virginia Tech and Denison University\, where Third Coast Percussion serves as an Ensemble-in-Residence.
LOCATION:Online anywhere!
UID:e.1775.14329
SEQUENCE:3
DTSTAMP:20260426T031956Z
URL:https://business.northcenterchamber.com/events/details/third-coast-percussion-performs-danny-elfman-14329
END:VEVENT

END:VCALENDAR
