BEGIN:VCALENDAR
VERSION:2.0
PRODID:-//ChamberMaster//Event Calendar 2.0//EN
METHOD:PUBLISH
X-PUBLISHED-TTL:P3D
REFRESH-INTERVAL:P3D
CALSCALE:GREGORIAN
BEGIN:VEVENT
DTSTART:20211216T010000Z
DTEND:20211216T021500Z
X-MICROSOFT-CDO-ALLDAYEVENT:FALSE
SUMMARY:Third Coast Percussion's OFFICE HOLIDAY PARTY!
DESCRIPTION:Grab your tackiest sweater and join GRAMMY -winning quartet Third Coast Percussion for their Office Holiday Party   an online fundraiser featuring live performances by TCP\, special guests from near and far\, and plenty of wintertime fun. \n\n \n\nTCP's Office Holiday Party features exclusive performances\, behind the scenes previews of our current collaborations\, an interactive look at our education program "Think Outside the Drum"\, and\, of course\, plenty of office shenanigans. Plus\, an amazing selection of auction items. All to support TCP's performance and educational programs\, both in-person and online. The Party will last approximately 75 minutes.
X-ALT-DESC;FMTTYPE=text/html:<div style="color: rgb(34\, 34\, 34)\; font-family: Arial\, Helvetica\, sans-serif\; font-size: small\;"><i>Grab your tackiest sweater and join GRAMMY&reg\;-winning quartet Third Coast Percussion for their Office Holiday Party &mdash\; an online fundraiser featuring live performances by TCP\, special guests from near and far\, and plenty of wintertime fun.&nbsp\;</i><br />\n&nbsp\;</div>\n\n<div style="color: rgb(34\, 34\, 34)\; font-family: Arial\, Helvetica\, sans-serif\; font-size: small\;"><i>TCP&#39\;s Office Holiday Party features exclusive performances\, behind the scenes previews of our current collaborations\, an interactive look at our education program &ldquo\;Think Outside the Drum&rdquo\;\, and\, of course\, plenty of office shenanigans. Plus\, an amazing selection of auction items. All to support TCP&rsquo\;s performance and educational programs\, both in-person and online. The Party will last approximately 75 minutes.</i></div>\n
LOCATION:Online
UID:e.1775.16367
SEQUENCE:3
DTSTAMP:20260420T183344Z
URL:https://business.northcenterchamber.com/events/details/third-coast-percussion-s-office-holiday-party-16367
END:VEVENT

END:VCALENDAR
