BEGIN:VCALENDAR
VERSION:2.0
PRODID:-//ChamberMaster//Event Calendar 2.0//EN
METHOD:PUBLISH
X-PUBLISHED-TTL:P3D
REFRESH-INTERVAL:P3D
CALSCALE:GREGORIAN
BEGIN:VEVENT
DTSTART:20200703T000000Z
DTEND:20200703T010000Z
X-MICROSOFT-CDO-ALLDAYEVENT:FALSE
SUMMARY:Third Coast Percussion Season Announcement Concert!
DESCRIPTION:Third Coast Percussion announces their new season\, and shares highlights from the cool projects and performances they will be doing in 2020/21. Tune in for TCP's last live stream concert of the summer!
X-ALT-DESC;FMTTYPE=text/html:Third Coast Percussion announces their new season\, and shares highlights from the cool projects and performances they will be doing in 2020/21. Tune in for TCP&#39\;s last live stream concert of the summer!
LOCATION:Online - anywhere!
UID:e.1775.14439
SEQUENCE:3
DTSTAMP:20260426T015603Z
URL:https://business.northcenterchamber.com/events/details/third-coast-percussion-season-announcement-concert-14439
END:VEVENT

END:VCALENDAR
