BEGIN:VCALENDAR
VERSION:2.0
PRODID:-//ChamberMaster//Event Calendar 2.0//EN
METHOD:PUBLISH
X-PUBLISHED-TTL:P3D
REFRESH-INTERVAL:P3D
CALSCALE:GREGORIAN
BEGIN:VEVENT
DTSTART;VALUE=DATE:20210417
DTEND;VALUE=DATE:20210418
TRANSP:TRANSPARENT
X-MICROSOFT-CDO-ALLDAYEVENT:TRUE
SUMMARY:Trivia Night with Pilgrim Lutheran
DESCRIPTION:Come join us for a night of online fun to support the 7th grade fundraising efforts. See if you have what it takes to beat the competition and enjoy some socializing. We'll have plenty of new fun with some old favorite trivia night shenanigans. \n\n\n\nClick on Trivia Tickets to sign up your team and purchase a VIP basket\, Wine Pull Raffle ticket or Mulligans. If you've already bought tickets but want to purchase an additional item\, click on "Catalog" for available options. We will reach out regarding team names prior to the event.\n\n\n\nFor 50/50 tickets\, you can go to https://go.rallyup.com/pilgrim4-17raffle.\n\n\n\nA special thank you to the following businesses for their support:\n\nClark Street Sports\, Family Foot and Ankle Center\, Dan De La Cruz State Farm\, Tricia Koning/Chicago Photo Art\, That's My Jam\, Survey by Design\, Centered Therapy\, Orglamix and Redline VR.
X-ALT-DESC;FMTTYPE=text/html:<span style="font-family:arial\,sans-serif\;"><span style="font-size:12.0pt\;">Come join us for a night of online fun to support the 7th grade fundraising efforts. See if you have what it takes to beat the competition and enjoy some socializing. We&#39\;ll have plenty of new fun with some old favorite trivia night shenanigans.&nbsp\;</span></span><br />\n<br />\n<a href="https://pilgrimschool.schoolauction.net/trivianight2021/register/ticket_sales"><strong><span style="font-family:arial\,sans-serif\;"><span style="font-size:12.0pt\;">Click on Trivia Tickets to sign up your team</span></span></strong></a><span style="font-family:arial\,sans-serif\;"><span style="font-size:12.0pt\;">&nbsp\;and purchase a VIP basket\, Wine Pull Raffle ticket or Mulligans. If you&#39\;ve already bought tickets but want to purchase an additional item\, click on &quot\;Catalog&quot\; for available options. We will reach out regarding team names prior to the event.</span></span><br />\n<br />\n<strong><span style="font-family:arial\,sans-serif\;"><span style="font-size:12.0pt\;">For 50/50 tickets</span></span></strong><span style="font-family:arial\,sans-serif\;"><span style="font-size:12.0pt\;">\, you can go to&nbsp\;<a href="https://go.rallyup.com/pilgrim4-17raffle">https://go.rallyup.com/pilgrim4-17raffle</a>.</span></span><br />\n<br />\n<strong><span style="font-family:arial\,sans-serif\;"><span style="font-size:12.0pt\;">A special thank you to the following businesses for their support:</span></span></strong><br />\n<span style="font-family:arial\,sans-serif\;"><span style="font-size:12.0pt\;">Clark Street Sports\, Family Foot and Ankle Center\, Dan De La Cruz State Farm\, Tricia Koning/Chicago Photo Art\, That&#39\;s My Jam\, Survey by Design\, Centered Therapy\, Orglamix and Redline VR.</span></span>
LOCATION:Sign up here: https://pilgrimschool.schoolauction.net/trivianight2021/register/ticket_sales
UID:e.1775.16103
SEQUENCE:3
DTSTAMP:20260423T084422Z
URL:https://business.northcenterchamber.com/events/details/trivia-night-with-pilgrim-lutheran-16103
END:VEVENT

END:VCALENDAR
