BEGIN:VCALENDAR
VERSION:2.0
PRODID:-//ChamberMaster//Event Calendar 2.0//EN
METHOD:PUBLISH
X-PUBLISHED-TTL:P3D
REFRESH-INTERVAL:P3D
CALSCALE:GREGORIAN
BEGIN:VEVENT
DTSTART:20201106T210000Z
DTEND:20201107T210000Z
X-MICROSOFT-CDO-ALLDAYEVENT:FALSE
SUMMARY:UNCF's Empower Me Tour (Virtual)
DESCRIPTION:The UNCF (United Negro College Fund) Empower Me Tour  (EMT) is virtually headed to Illinois\, Wisconsin\, New York\, New Jersey and Washington\, DC\, to award thousands of dollars in college scholarships to local high school students. EMT is a free college-and-career-readiness roadshow that has traveled the country\, providing a platform for high school students to earn on-site scholarships and admission to the nation's top historically Black colleges and universities (HBCUs). Thousands of dollars will be awarded to high school graduating seniors in attendance. UNCF is the largest scholarship provider to students of color in the United States\, awarding more than $100 million annually in scholarships to more than 7\,200 students across the country. " EMT is a wonderful program that Wells ?Fargo is tremendously proud to sponsor. For more than 10 years\, Wells Fargo employees across the country have supported thousands of deserving students. We look forward to helping more students pursue their higher education goals this year\," said Sharon Murphy\, executive vice president and head of end-user and collaboration services technology at Wells ?Fargo and a UNCF national board member.????
X-ALT-DESC;FMTTYPE=text/html:The UNCF (United Negro College Fund) Empower Me Tour&reg\; (EMT) is virtually headed to Illinois\, Wisconsin\, New York\, New Jersey and Washington\, DC\, to award thousands of dollars in college scholarships to local high school students. EMT is a free college-and-career-readiness roadshow that has traveled the country\, providing a platform for high school students to earn on-site scholarships and admission to the nation&#39\;s top historically Black colleges and universities (HBCUs). Thousands of dollars will be awarded to high school graduating seniors in attendance. UNCF is the largest scholarship provider to students of color in the United States\, awarding more than $100 million annually in scholarships to more than 7\,200 students across the country. &quot\; EMT is a wonderful program that Wells ?Fargo is tremendously proud to sponsor. For more than 10 years\, Wells Fargo employees across the country have supported thousands of deserving students. We look forward to helping more students pursue their higher education goals this year\,&quot\; said Sharon Murphy\, executive vice president and head of end-user and collaboration services technology at Wells ?Fargo and a UNCF national board member.????
LOCATION:Virtual
UID:e.1775.16032
SEQUENCE:3
DTSTAMP:20260425T174258Z
URL:https://business.northcenterchamber.com/events/details/uncf-s-empower-me-tour-virtual-16032
END:VEVENT

END:VCALENDAR
