BEGIN:VCALENDAR
VERSION:2.0
PRODID:-//ChamberMaster//Event Calendar 2.0//EN
METHOD:PUBLISH
X-PUBLISHED-TTL:P3D
REFRESH-INTERVAL:P3D
CALSCALE:GREGORIAN
BEGIN:VEVENT
DTSTART:20200924T223000Z
DTEND:20200925T000000Z
X-MICROSOFT-CDO-ALLDAYEVENT:FALSE
SUMMARY:Unwind With A Virtual Happy Hour
DESCRIPTION:Connect with your fellow Chamber members after work for a virtual happy hour!
X-ALT-DESC;FMTTYPE=text/html:Connect with your fellow Chamber members after work for a virtual happy hour!&nbsp\;
LOCATION:https://us02web.zoom.us/j/86886188333?
UID:e.1775.15869
SEQUENCE:3
DTSTAMP:20260425T204837Z
URL:https://business.northcenterchamber.com/events/details/unwind-with-a-virtual-happy-hour-15869
END:VEVENT

END:VCALENDAR
