BEGIN:VCALENDAR
VERSION:2.0
PRODID:-//ChamberMaster//Event Calendar 2.0//EN
METHOD:PUBLISH
X-PUBLISHED-TTL:P3D
REFRESH-INTERVAL:P3D
CALSCALE:GREGORIAN
BEGIN:VEVENT
DTSTART:20220205T190000Z
DTEND:20220205T220000Z
X-MICROSOFT-CDO-ALLDAYEVENT:FALSE
SUMMARY:Vaccine Clinic
DESCRIPTION:FREE Vaccine Clinic at Pilgrim Lutheran School\n\nFebruary 5 and 26\n\n1PM - 4PM\n\n\n\nWalk In's Welcome\n\nSchedule your appointment here
X-ALT-DESC;FMTTYPE=text/html:<strong style="color: rgb(32\, 32\, 32)\; font-family: Helvetica\; font-size: 16px\; text-align: center\;">FREE Vaccine Clinic at Pilgrim Lutheran School</strong><br style="color: rgb(32\, 32\, 32)\; font-family: Helvetica\; font-size: 16px\; text-align: center\;" />\n<span style="color: rgb(32\, 32\, 32)\; font-family: Helvetica\; font-size: 16px\; text-align: center\;">February 5 and 26</span><br style="color: rgb(32\, 32\, 32)\; font-family: Helvetica\; font-size: 16px\; text-align: center\;" />\n<span style="color: rgb(32\, 32\, 32)\; font-family: Helvetica\; font-size: 16px\; text-align: center\;">1PM - 4PM</span><br style="color: rgb(32\, 32\, 32)\; font-family: Helvetica\; font-size: 16px\; text-align: center\;" />\n<br style="color: rgb(32\, 32\, 32)\; font-family: Helvetica\; font-size: 16px\; text-align: center\;" />\n<span style="color: rgb(32\, 32\, 32)\; font-family: Helvetica\; font-size: 16px\; text-align: center\;">Walk In&#39\;s Welcome</span><br style="color: rgb(32\, 32\, 32)\; font-family: Helvetica\; font-size: 16px\; text-align: center\;" />\n<a href="https://idph-mychart.pchosted.com/IDPH/signupandschedule/embeddedschedule?vt=24629&amp\;dept=9001410012140" style="text-size-adjust: 100%\; color: rgb(0\, 124\, 137)\; font-family: Helvetica\; font-size: 16px\; text-align: center\;" target="_blank">Schedule your appointment here</a>
LOCATION:Pilgrim School 4300 N. Winchester Ave Chicago\, IL 60613
UID:e.1775.16801
SEQUENCE:3
DTSTAMP:20260420T171455Z
URL:https://business.northcenterchamber.com/events/details/vaccine-clinic-16801
END:VEVENT

END:VCALENDAR
