BEGIN:VCALENDAR
VERSION:2.0
PRODID:-//ChamberMaster//Event Calendar 2.0//EN
METHOD:PUBLISH
X-PUBLISHED-TTL:P3D
REFRESH-INTERVAL:P3D
CALSCALE:GREGORIAN
BEGIN:VEVENT
DTSTART:20220408T003000Z
DTEND:20220408T013000Z
X-MICROSOFT-CDO-ALLDAYEVENT:FALSE
SUMMARY:Vedas Plant Shop - Terrarium Workshop
DESCRIPTION:The Terrarium Workshop is on our calendar\, and we've got room for you- and your family\, friends\, date- whomever! Make it a family outing\, or get a sitter and make it a date night for the two of you\, or just take a night to yourself and get away from the buzz of it all.\n\n\n\nLearn the basics of building terrariums\, and take one home with you to enjoy for years. Beginners welcome! We will have a few options available- one of them is a Bring Your Own Vessel ticket\, and there are 2 options where we provide a vessel for you. All other Plants\, Materials\, D cor\, Supplies and Instruction are included! There will also be additional plants available to purchase at the workshop\, in case you like a really full jungle terrarium!
X-ALT-DESC;FMTTYPE=text/html:<span style="font-size:16px\;"><span style="font-family:arial\;"><span style="color: rgb(25\, 110\, 2)\; background-color: rgb(248\, 248\, 248)\;">The Terrarium Workshop is on our calendar\, and we&#39\;ve got room for you- and your family\, friends\, date- whomever! Make it a family outing\, or get a sitter and make it a date night for the two of you\, or just take a night to yourself and get away from the buzz of it all.<br />\n<br />\nLearn the basics of building terrariums\,&nbsp\;</span><em style="color: rgb(25\, 110\, 2)\; font-family: system-ui\, -apple-system\, &quot\;Segoe UI&quot\;\, Roboto\, Helvetica\, Arial\, sans-serif\, &quot\;Apple Color Emoji&quot\;\, &quot\;Segoe UI Emoji&quot\;\, &quot\;Segoe UI Symbol&quot\;\; font-size: 20px\; background-color: rgb(248\, 248\, 248)\;">and&nbsp\;</em></span></span><span style="color: rgb(25\, 110\, 2)\; font-family: system-ui\, -apple-system\, &quot\;Segoe UI&quot\;\, Roboto\, Helvetica\, Arial\, sans-serif\, &quot\;Apple Color Emoji&quot\;\, &quot\;Segoe UI Emoji&quot\;\, &quot\;Segoe UI Symbol&quot\;\; font-size: 20px\; background-color: rgb(248\, 248\, 248)\;"><span style="font-size:16px\;"><span style="font-family:arial\;">take one home with you to enjoy for years. Beginners welcome! We will have a few options available- one of them is a Bring Your Own Vessel ticket\, and there are 2 options where we provide a vessel for you. All other Plants\, Materials\, D&eacute\;cor\, Supplies and Instruction are included! There will also be additional plants available to purchase at the workshop\, in case you like a really full jungle terrarium!</span></span></span>
LOCATION:Located at 1803 W Byron\, at our friends\, The Rooted Space's Studio. Just a couple blocks away from the shop\, and plenty of room!
UID:e.1775.16833
SEQUENCE:3
DTSTAMP:20260420T134513Z
URL:https://business.northcenterchamber.com/events/details/vedas-plant-shop-terrarium-workshop-16833
END:VEVENT

END:VCALENDAR
