BEGIN:VCALENDAR
VERSION:2.0
PRODID:-//ChamberMaster//Event Calendar 2.0//EN
METHOD:PUBLISH
X-PUBLISHED-TTL:P3D
REFRESH-INTERVAL:P3D
CALSCALE:GREGORIAN
BEGIN:VEVENT
DTSTART;VALUE=DATE:20201102
DTEND;VALUE=DATE:20201130
TRANSP:TRANSPARENT
X-MICROSOFT-CDO-ALLDAYEVENT:TRUE
SUMMARY:Virtual Lycée French Market
DESCRIPTION:The 16th annual Lyc e French Market has gone virtual: - Participate in a variety of entertaining activities for all ages from Friday\, November 13 to Sunday\, November 15: wine or chocolate tastings\, cooking or art classes\, storytimes and more.\n\n\n\nRegister quickly\, spots are limited. - Shop online from November 1 until November 29 for the holidays\, either at the "Lyc e Boutique" or through your favorite local & French vendor websites   home d cor\, jewelry\, accessories\, gourmet food and more.
X-ALT-DESC;FMTTYPE=text/html:The 16th annual Lyc&eacute\;e French Market has gone virtual: - Participate in a variety of entertaining activities for all ages from Friday\, November 13 to Sunday\, November 15: wine or chocolate tastings\, cooking or art classes\, storytimes and more.<br />\n<br />\nRegister quickly\, spots are limited. - Shop online from November 1 until November 29 for the holidays\, either at the &quot\;Lyc&eacute\;e Boutique&quot\; or through your favorite local &amp\; French vendor websites &ndash\; home d&eacute\;cor\, jewelry\, accessories\, gourmet food and more.
LOCATION:Virtual event
UID:e.1775.16035
SEQUENCE:3
DTSTAMP:20260425T174527Z
URL:https://business.northcenterchamber.com/events/details/virtual-lyc&#233;e-french-market-16035
END:VEVENT

END:VCALENDAR
