BEGIN:VCALENDAR
VERSION:2.0
PRODID:-//ChamberMaster//Event Calendar 2.0//EN
METHOD:PUBLISH
X-PUBLISHED-TTL:P3D
REFRESH-INTERVAL:P3D
CALSCALE:GREGORIAN
BEGIN:VEVENT
DTSTART;VALUE=DATE:20210926
DTEND;VALUE=DATE:20210927
TRANSP:TRANSPARENT
X-MICROSOFT-CDO-ALLDAYEVENT:TRUE
SUMMARY:Virtual "Oui" Run 5K & Kids Race
DESCRIPTION:The 5K with a French flair! Join us for "zee" most fabulous race in Chicago! The 2021 "Oui" Run 5K has now gone virtual and will take place on Sunday\, September 26. Choose your own route and start time. Run solo or with your family. Track and submit your time. All while wearing your awesome "Oui" Run tech shirt!   vos marques\, pr ts\, partez!
X-ALT-DESC;FMTTYPE=text/html:The 5K with a French flair! Join us for &quot\;zee&quot\; most fabulous race in Chicago! The 2021 &quot\;Oui&quot\; Run 5K has now gone virtual and will take place on Sunday\, September 26. Choose your own route and start time. Run solo or with your family. Track and submit your time. All while wearing your awesome &quot\;Oui&quot\; Run tech shirt! &Agrave\; vos marques\, pr&ecirc\;ts\, partez!
LOCATION:Virtual
UID:e.1775.16353
SEQUENCE:3
DTSTAMP:20260420T232700Z
URL:https://business.northcenterchamber.com/events/details/virtual-oui-run-5k-kids-race-16353
END:VEVENT

END:VCALENDAR
