BEGIN:VCALENDAR
VERSION:2.0
PRODID:-//ChamberMaster//Event Calendar 2.0//EN
METHOD:PUBLISH
X-PUBLISHED-TTL:P3D
REFRESH-INTERVAL:P3D
CALSCALE:GREGORIAN
BEGIN:VEVENT
DTSTART:20201202T160000Z
DTEND:20201203T050000Z
X-MICROSOFT-CDO-ALLDAYEVENT:FALSE
SUMMARY:Virtual Recruitment Event - Illinois Department of Human Services
DESCRIPTION:Visit us at one of the upcoming events to learn more about employment with the Illinois Department of Human Services (IDHS)!  Check back frequently to see upcoming Job & Employment Fairs IDHS will be attending or IDHS sponsored events.\n\n\n	Please also feel free to complete this brief survey to let us know any and all titles or positions in which you are interested.\n	 \n	Reoccurring IDHS Events\n\n\n\n\n	IDHS Recruitment presentations - Careers and the Application Process with IDHS\n\n	\n		1st Wednesday (10:00 AM - 11:00 AM) and 3rd Wednesday (2:00 PM - 3:00 PM) of every month\n		Register here: https://illinois.webex.com/illinois/onstage/g.php?MTID=e5b6c171815f838e1536681b19bc50754\n	\n	\n\n\n\n\nTo Learn about all upcoming events\, visit IDHS website: www.dhs.state.il.us/page.aspx?item=80790
X-ALT-DESC;FMTTYPE=text/html:<div style="box-sizing: border-box\; margin: 0.5em 0px 0px\;">Visit us at one of&nbsp\;the upcoming events to learn more about employment with the Illinois Department of Human Services (IDHS)!&nbsp\; Check back frequently&nbsp\;to see upcoming Job &amp\; Employment Fairs IDHS will be attending or IDHS sponsored events.</div>\n\n<ul class="noBullets" font-size:="" segoe="" style="box-sizing: border-box\; margin: 1em 0px 0px\; padding-left: 0px\; list-style-type: none\; color: rgb(0\, 0\, 0)\; font-family: ">\n	<li style="box-sizing: border-box\; margin: 0.5em 0px 0px\;"><a href="https://forms.office.com/Pages/ResponsePage.aspx?id=nwgia7qOPEaE9TFxIQ-QBQDIuhn9z29FhBH6G-3PNUlURU1GMTBHM1lITzJYNUs0N1lRQVQ0MVMwUi4u" style="box-sizing: border-box\; color: rgb(3\, 101\, 192)\;">Please also feel free to complete this brief survey to let us know any and all titles or positions in which you are interested.</a></li>\n	<li style="box-sizing: border-box\; margin: 0.5em 0px 0px\;">&nbsp\;</li>\n	<li style="box-sizing: border-box\; margin: 0.5em 0px 0px\;"><span style="font-size:16px\;"><span style="font-size:16px\;">Reoccurring IDHS&nbsp\;Events</span></span></li>\n</ul>\n\n<div style="box-sizing: border-box\; margin: 0.5em 0px 0px\;">\n<ul class="noBullets" font-size:="" segoe="" style="box-sizing: border-box\; margin: 0px\; padding-left: 0px\; list-style-type: none\; color: rgb(0\, 0\, 0)\; font-family: ">\n	<li style="box-sizing: border-box\; margin: 0.5em 0px 0px\;"><span style="box-sizing: border-box\; font-weight: 700\;">IDHS Recruitment presentations - Careers and the Application Process with IDHS</span>\n\n	<ul style="box-sizing: border-box\; margin: 0px\; padding-left: 2em\;">\n		<li style="box-sizing: border-box\; margin: 0.5em 0px 0px\;">1st Wednesday (10:00 AM - 11:00 AM)&nbsp\;and 3rd Wednesday (2:00 PM - 3:00 PM)&nbsp\;of every month</li>\n		<li style="box-sizing: border-box\; margin: 0.5em 0px 0px\;"><em style="box-sizing: border-box\;">Register here:&nbsp\;<a href="https://illinois.webex.com/illinois/onstage/g.php?MTID=e5b6c171815f838e1536681b19bc50754" style="box-sizing: border-box\; color: rgb(3\, 101\, 192)\;">https://illinois.webex.com/illinois/onstage/g.php?MTID=e5b6c171815f838e1536681b19bc50754</a></em></li>\n	</ul>\n	</li>\n</ul>\n\n<div style="box-sizing: border-box\; margin: 0.5em 0px 0px\;"><br />\n<em style="box-sizing: border-box\;">To Learn about all upcoming events\, visit IDHS website<span style="background-color:#FFFFFF\;">:</span></em><em style="box-sizing: border-box\;"><span style="background-color:#FFFFFF\;">&nbsp\;</span></em><span style="color:#0000CD\;"><span style="background-color:#FFFFFF\;">www.dhs.state.il.us/page.aspx?item=80790</span></span></div>\n</div>\n
LOCATION:Virtual Events
UID:e.1775.16042
SEQUENCE:3
DTSTAMP:20260425T155839Z
URL:https://business.northcenterchamber.com/events/details/virtual-recruitment-event-illinois-department-of-human-services-16042
END:VEVENT

END:VCALENDAR
