BEGIN:VCALENDAR
VERSION:2.0
PRODID:-//ChamberMaster//Event Calendar 2.0//EN
METHOD:PUBLISH
X-PUBLISHED-TTL:P3D
REFRESH-INTERVAL:P3D
CALSCALE:GREGORIAN
BEGIN:VEVENT
DTSTART:20210122T010000Z
DTEND:20210122T020000Z
X-MICROSOFT-CDO-ALLDAYEVENT:FALSE
SUMMARY:Virtual Workshop: Indoor Herb Gardening
DESCRIPTION:Online Workshop with Vivant Gardening Services! Join us for this online workshop on Thursday\, January 21st at 7pm!\n\n \n\nWorkshop Description\n\nWant to savor the flavors of your favorite herbs all year long and add some life to your home with an indoor herb garden? Join Kasey Eaves\, owner of Vivant Gardening Services\, for an intro to the best practices and common pitfalls of growing indoors. Learn which windows will provide the best light\, how to supplement your plants' needs in the winter\, what pests and diseases to watch out for\, and more. Start your indoor herb farm today and enjoy eating your own home grown food year round.\n\n \n\nNo equipment or materials required. If attendees have any questions about soil\, pots\, or specific herbs\, you can have items handy to show Kasey in the Q&A portion of the event.\n\n \n\nInstructor's Bio\n\nKasey Bersett Eaves started growing edibles and her treasured sunflowers at age two on family farm property in Southern Illinois. She hasn't sat down since! Just kidding   Now\, as owner of Vivant Gardening Services\, she spends her days making gardening with edibles\, natives and pollinator plants approachable to area residents\, restaurants\, schools\, and more. Never daunted by the task of growing in a city's unusual spaces\, Kasey loves finding creative and easily maintained growing solutions for city dwellers.\n\n \n\nRegister at https://dankhaus.com/event-4051108
X-ALT-DESC;FMTTYPE=text/html:<div>Online Workshop with Vivant Gardening Services! Join us for this online workshop on Thursday\, January 21st at 7pm!<br />\n&nbsp\;</div>\n\n<div>Workshop Description</div>\n\n<div>Want to savor the flavors of your favorite herbs all year long and add some life to your home with an indoor herb garden? Join Kasey Eaves\, owner of Vivant Gardening Services\, for an intro to the best practices and common pitfalls of growing indoors. Learn which windows will provide the best light\, how to supplement your plants&#39\; needs in the winter\, what pests and diseases to watch out for\, and more. Start your indoor herb farm today and enjoy eating your own home grown food year round.<br />\n&nbsp\;</div>\n\n<div>No equipment or materials required. If attendees have any questions about soil\, pots\, or specific herbs\, you can have items handy to show Kasey in the Q&amp\;A portion of the event.<br />\n&nbsp\;</div>\n\n<div>Instructor&#39\;s Bio</div>\n\n<div>Kasey Bersett Eaves started growing edibles and her treasured sunflowers at age two on family farm property in Southern Illinois. She hasn&#39\;t sat down since! Just kidding &hellip\; Now\, as owner of Vivant Gardening Services\, she spends her days making gardening with edibles\, natives and pollinator plants approachable to area residents\, restaurants\, schools\, and more. Never daunted by the task of growing in a city&#39\;s unusual spaces\, Kasey loves finding creative and easily maintained growing solutions for city dwellers.<br />\n&nbsp\;</div>\n\n<div>Register at&nbsp\;<a class="oajrlxb2 g5ia77u1 qu0x051f esr5mh6w e9989ue4 r7d6kgcz rq0escxv nhd2j8a9 nc684nl6 p7hjln8o kvgmc6g5 cxmmr5t8 oygrvhab hcukyx3x jb3vyjys rz4wbd8a qt6c0cv9 a8nywdso i1ao9s8h esuyzwwr f1sip0of lzcic4wl py34i1dx gpro0wi8" href="https://dankhaus.com/event-4051108?fbclid=IwAR2UuC1jIjMYG24W9NF4Z_w64BMsgs7EQcg5ih2JfAARxdz30Z53oSXz4_Q" rel="nofollow noopener" style="color: var(--blue-link)\; cursor: pointer\; text-decoration-line: none\; outline: none\; list-style: none\; border-width: 0px\; border-style: initial\; border-color: initial\; padding: 0px\; margin: 0px\; touch-action: manipulation\; background-color: transparent\; text-align: inherit\; display: inline\; -webkit-tap-highlight-color: transparent\; box-sizing: border-box\; font-family: inherit\;" tabindex="0" target="_blank">https://dankhaus.com/event-4051108</a></div>\n
LOCATION:Online via Zoom
UID:e.1775.16046
SEQUENCE:3
DTSTAMP:20260425T140802Z
URL:https://business.northcenterchamber.com/events/details/virtual-workshop-indoor-herb-gardening-16046
END:VEVENT

END:VCALENDAR
