BEGIN:VCALENDAR
VERSION:2.0
PRODID:-//ChamberMaster//Event Calendar 2.0//EN
METHOD:PUBLISH
X-PUBLISHED-TTL:P3D
REFRESH-INTERVAL:P3D
CALSCALE:GREGORIAN
BEGIN:VEVENT
DTSTART:20210312T160000Z
DTEND:20210312T220000Z
X-MICROSOFT-CDO-ALLDAYEVENT:FALSE
SUMMARY:Volunteer Opportunity - Build-A-Kit and “Notes of Inspiration”
DESCRIPTION:Volunteer today with Back to School Illinois! This social distant Build-A-Kit and "Notes of Inspiration" will be taking place at the 5th/3rd building at Lincoln/Irving Park/Damen intersection. Your volunteering will consist of building kits of school supplies and writing notes of encouragement for underprivileged kids.\n\nAdditional Info:\n\nDress casually and snacks & lunch will be provided for volunteers. Limited spots due to COVID regulations\, social distancing\, and wearing a mask.\n\nParking: Available off Damen Street across from the bank in the 5th/3rd parking lot
X-ALT-DESC;FMTTYPE=text/html:<p style="margin-top: 0.5em\; margin-bottom: 0.5em\; overflow-wrap: break-word\; color: rgba(26\, 26\, 26\, 0.7)\; font-family: Arial\, Helvetica\, sans-serif\; font-size: 18px\; white-space: pre-wrap\;"><span style="color:#000000\;"><span style="font-size:12px\;">Volunteer today with<a href="https://b2si.org/"> Back to School Illinois</a>! <span style="font-family: Roboto\, Arial\, sans-serif\; letter-spacing: 0.2px\; white-space: pre-wrap\;">This social distant Build-A-Kit and &quot\;Notes of Inspiration&quot\; will be taking place at the 5th/3rd building at Lincoln/Irving Park/Damen intersection. Your volunteering will consist of building kits of school supplies and writing notes of encouragement for underprivileged kids.<br />\n<u>Additional Info:</u></span></span></span><br />\n<span style="color: rgb(0\, 0\, 0)\; font-family: arial\; font-size: 12px\; white-space: pre-wrap\;">Dress casually and snacks &amp\; lunch will be provided for volunteers. Limited spots due to COVID regulations\, social distancing\, and wearing a mask.</span></p>\n\n<p style="margin-top: 0.5em\; margin-bottom: 0.5em\; overflow-wrap: break-word\; color: rgba(26\, 26\, 26\, 0.7)\; font-family: Arial\, Helvetica\, sans-serif\; font-size: 18px\; white-space: pre-wrap\;"><span style="color:#000000\;"><span style="font-size:12px\;"><span style="font-family:arial\;">Parking: Available off Damen Street across from the bank in the 5th/3rd parking lot</span></span></span></p>\n
LOCATION:Location: 5th/3rd Bank (B2SI office) 3959 N. Lincoln Ave Chicago\, IL 60613
UID:e.1775.16054
SEQUENCE:3
DTSTAMP:20260421T115525Z
URL:https://business.northcenterchamber.com/events/details/volunteer-opportunity-build-a-kit-and-notes-of-inspiration-16054
END:VEVENT

END:VCALENDAR
