BEGIN:VCALENDAR
VERSION:2.0
PRODID:-//ChamberMaster//Event Calendar 2.0//EN
METHOD:PUBLISH
X-PUBLISHED-TTL:P3D
REFRESH-INTERVAL:P3D
CALSCALE:GREGORIAN
BEGIN:VEVENT
DTSTART:20210429T140000Z
DTEND:20210429T153000Z
X-MICROSOFT-CDO-ALLDAYEVENT:FALSE
SUMMARY:We've Missed You! Morning Coffee & Networking in Town Square
DESCRIPTION:It's been a long winter\, and we've missed gathering with our Chamber members. It's time to shake off the cold-weather blues and reconnect with our neighbors. Join us on April 29th as we gather for coffee and conversation in Town Square! If you joined this winter\, this is a great opportunity to start getting to know your fellow local business owners. We will be providing delicious coffee and donuts (including gluten free) from Dip and Sip Donuts!\n\n\n\n(Event is capped at 35 participants. Participants must wear a face covering and maintain physical distancing as much as possible.)
X-ALT-DESC;FMTTYPE=text/html:<span style="font-size:14px\;"><span style="color: rgb(34\, 34\, 34)\; font-family: Arial\, Helvetica\, sans-serif\;">It&#39\;s been a long winter\, and we&#39\;ve missed gathering with our Chamber members. It&#39\;s time to shake off the cold-weather blues and reconnect with our neighbors. Join us on April 29th as we gather for coffee and conversation in Town Square! If you joined this winter\, this is a great opportunity to start getting to know your fellow local business owners. We will be providing delicious coffee and donuts (including gluten free) from <a href="https://www.dipandsipdonut.com/">Dip and Sip Donuts</a>!</span><br />\n<br />\n(<strong>Event is capped at 35 participants. Participants must wear a face covering and maintain physical distancing as much as possible.)&nbsp\;</strong></span>
LOCATION:Northcenter Town Square 4100 N. Damen Ave.
UID:e.1775.16104
SEQUENCE:3
DTSTAMP:20260423T083440Z
URL:https://business.northcenterchamber.com/events/details/we-ve-missed-you-morning-coffee-networking-in-town-square-16104
END:VEVENT

END:VCALENDAR
