BEGIN:VCALENDAR
VERSION:2.0
PRODID:-//ChamberMaster//Event Calendar 2.0//EN
METHOD:PUBLISH
X-PUBLISHED-TTL:P3D
REFRESH-INTERVAL:P3D
CALSCALE:GREGORIAN
BEGIN:VEVENT
DTSTART:20220318T170000Z
DTEND:20220318T180000Z
X-MICROSOFT-CDO-ALLDAYEVENT:FALSE
SUMMARY:Webinar: New Laws in 2022
DESCRIPTION:Presented by the Lakeview Roscoe Village & Northcenter Chambers of Commerce\n\nWhile many things came to an abrupt stop during the pandemic\, employment laws continued to change\, so join us for our New Laws in 2022 webinar with employment attorney Neil Stern. Neil will speak to the new local\, state\, and federal laws that impact businesses across the board. In addition to providing information and helpful links and educational materials\, there will be time for questions about day-to-day practical employment questions. We hope you'll consider joining us!\n\nAbout the Presenter:\n\nNeil Stern is a creative labor and employment attorney with decades of experience advising companies ranging from very small businesses up to publicly traded Fortune 500 companies. Neil has also built and run a small business himself\, so he understands the balance a business needs between the legal and the practical. Neil has expertise in all aspects of the employer-employee relationship\, including strategic HR planning\, hiring and layoff strategies\, employee communications\, supervisory and managerial training\, plant closures and relocations\, as well as routine day-to-day issues such as EEO\, FMLA\, ADA\, FLSA\, and any other employment acronym you can think of.
X-ALT-DESC;FMTTYPE=text/html:<p style="margin: 0px 0px 1rem\; overflow-wrap: break-word\; font-family: trade-gothic-next\; font-size: 17.1304px\; background-color: rgb(255\, 255\, 255)\; white-space: pre-wrap\;"><em style="overflow-wrap: break-word\;">Presented by the Lakeview Roscoe Village &amp\; Northcenter Chambers of Commerce</em></p>\n\n<p style="margin: 1rem 0px\; overflow-wrap: break-word\; font-family: trade-gothic-next\; font-size: 17.1304px\; background-color: rgb(255\, 255\, 255)\; white-space: pre-wrap\;">While many things came to an abrupt stop during the pandemic\, employment laws continued to change\, so join us for our New Laws in 2022 webinar with employment attorney Neil Stern. Neil will speak to the new local\, state\, and federal laws that impact businesses across the board. In addition to providing information and helpful links and educational materials\, there will be time for questions about day-to-day practical employment questions. We hope you&#39\;ll consider joining us!</p>\n\n<p style="margin: 1rem 0px\; overflow-wrap: break-word\; font-family: trade-gothic-next\; font-size: 17.1304px\; background-color: rgb(255\, 255\, 255)\; white-space: pre-wrap\;"><strong style="overflow-wrap: break-word\;">About the Presenter:</strong></p>\n\n<p style="margin: 1rem 0px 0px\; overflow-wrap: break-word\; font-family: trade-gothic-next\; font-size: 17.1304px\; background-color: rgb(255\, 255\, 255)\; white-space: pre-wrap\;">Neil Stern is a creative labor and employment attorney with decades of experience advising companies ranging from very small businesses up to publicly traded Fortune 500 companies. Neil has also built and run a small business himself\, so he understands the balance a business needs between the legal and the practical. Neil has expertise in all aspects of the employer-employee relationship\, including strategic HR planning\, hiring and layoff strategies\, employee communications\, supervisory and managerial training\, plant closures and relocations\, as well as routine day-to-day issues such as EEO\, FMLA\, ADA\, FLSA\, and any other employment acronym you can think of.</p>\n
LOCATION:Register Here
UID:e.1775.16824
SEQUENCE:3
DTSTAMP:20260420T134338Z
URL:https://business.northcenterchamber.com/events/details/webinar-new-laws-in-2022-16824
END:VEVENT

END:VCALENDAR
