BEGIN:VCALENDAR
VERSION:2.0
PRODID:-//ChamberMaster//Event Calendar 2.0//EN
METHOD:PUBLISH
X-PUBLISHED-TTL:P3D
REFRESH-INTERVAL:P3D
CALSCALE:GREGORIAN
BEGIN:VEVENT
DTSTART:20210309T000000Z
DTEND:20210309T010000Z
X-MICROSOFT-CDO-ALLDAYEVENT:FALSE
SUMMARY:What You Need to Know About PPP and SBA Loans Webinar
DESCRIPTION:Please join State Representative Lindsey LaPointe - 19th District\, State Senator Robert Martwick - 10th District\, Acting State Banking Director at Illinois Department of Financial and Professional Regulation Chasse Rehwinkel\, and Cook County Commissioner Bridget Degnen on Monday\, March 8th at 6:00 PM CST via Zoom and Facebook live for our PPP and SBA loans webinar.\n\n\n\nThey will provide an in-depth analysis of the PPP loan application\, and we will answer any questions you may have regarding the process. The zoom link for the event can be found here. Please email questions to district12@cookcountyil.gov.
X-ALT-DESC;FMTTYPE=text/html:<span style="font-family:arial\;"><span style="font-size:14px\;"><span style="color: rgb(32\, 32\, 32)\;">Please join State Representative Lindsey LaPointe - 19th District\, State Senator Robert Martwick - 10th District\, Acting State Banking Director at Illinois Department of Financial and Professional Regulation Chasse Rehwinkel\, and Cook County Commissioner Bridget Degnen on Monday\, March 8th at 6:00 PM CST via Zoom and Facebook live for our PPP and SBA loans webinar.</span><br style="color: rgb(32\, 32\, 32)\; font-family: Helvetica\; font-size: 16px\;" />\n<br style="color: rgb(32\, 32\, 32)\; font-family: Helvetica\; font-size: 16px\;" />\n<span style="color: rgb(32\, 32\, 32)\;">They will provide an in-depth analysis of the PPP loan application\, and we will answer any questions you may have regarding the process. The zoom link for the event can be found&nbsp\;</span><a data-saferedirecturl="https://www.google.com/url?q=https://commissionerdegnen.us20.list-manage.com/track/click?u%3Dd782a19f20b24a1cfc6b0c9fb%26id%3D909c1c17f4%26e%3Ddc6b4fb732&amp\;source=gmail&amp\;ust=1614971181616000&amp\;usg=AFQjCNFTomXFwPe-A-ZTxTG_GXp-96E8Pg" href="https://commissionerdegnen.us20.list-manage.com/track/click?u=d782a19f20b24a1cfc6b0c9fb&amp\;id=909c1c17f4&amp\;e=dc6b4fb732" style="color: rgb(0\, 124\, 137)\; font-family: Helvetica\; font-size: 16px\;" target="_blank">here</a><span style="color: rgb(32\, 32\, 32)\;">.&nbsp\;Please email questions to&nbsp\;</span><a href="mailto:district12@cookcountyil.gov" style="color: rgb(0\, 124\, 137)\; font-family: Helvetica\; font-size: 16px\;" target="_blank">district12@cookcountyil.gov</a><span style="color: rgb(32\, 32\, 32)\;">.</span></span></span>
LOCATION:Virtual Webinar via Zoom and Facebook live
UID:e.1775.16079
SEQUENCE:3
DTSTAMP:20260421T100916Z
URL:https://business.northcenterchamber.com/events/details/what-you-need-to-know-about-ppp-and-sba-loans-webinar-16079
END:VEVENT

END:VCALENDAR
