BEGIN:VCALENDAR
VERSION:2.0
PRODID:-//ChamberMaster//Event Calendar 2.0//EN
METHOD:PUBLISH
X-PUBLISHED-TTL:P3D
REFRESH-INTERVAL:P3D
CALSCALE:GREGORIAN
BEGIN:VEVENT
DTSTART:20210721T170000Z
DTEND:20210721T180000Z
X-MICROSOFT-CDO-ALLDAYEVENT:FALSE
SUMMARY:Wintrust Bank presents: Records Keeping - Money Smart Class
DESCRIPTION:The newly updated Money Smart for Adults curriculum provides participants with practical knowledge\, skill-building opportunities\, and resources they can use to manage their finances with confidence. Your Wintrust instructors are certified to use the curriculum to deliver unbiased\, relevant\, and accurate financial education.
X-ALT-DESC;FMTTYPE=text/html:<span style="color: rgb(34\, 34\, 34)\; font-family: Arial\; font-size: 13.3333px\;">The newly updated&nbsp\;</span><span class="il" style="color: rgb(34\, 34\, 34)\; font-family: Arial\; font-size: 13.3333px\;">Money</span><span style="color: rgb(34\, 34\, 34)\; font-family: Arial\; font-size: 13.3333px\;">&nbsp\;</span><span class="il" style="color: rgb(34\, 34\, 34)\; font-family: Arial\; font-size: 13.3333px\;">Smart</span><span style="color: rgb(34\, 34\, 34)\; font-family: Arial\; font-size: 13.3333px\;">&nbsp\;for Adults curriculum provides participants with practical knowledge\, skill-building opportunities\, and resources they can use to manage their finances with confidence. Your Wintrust instructors are certified to use the curriculum to deliver unbiased\, relevant\, and accurate financial education.</span>
LOCATION:Online via BlueJeans https://bluejeans.com/228771923?src=calendarLink
UID:e.1775.16316
SEQUENCE:3
DTSTAMP:20260421T030210Z
URL:https://business.northcenterchamber.com/events/details/wintrust-bank-presents-records-keeping-money-smart-class-16316
END:VEVENT

END:VCALENDAR
