BEGIN:VCALENDAR
VERSION:2.0
PRODID:-//ChamberMaster//Event Calendar 2.0//EN
METHOD:PUBLISH
X-PUBLISHED-TTL:P3D
REFRESH-INTERVAL:P3D
CALSCALE:GREGORIAN
BEGIN:VEVENT
DTSTART:20200823T150000Z
DTEND:20200823T163000Z
X-MICROSOFT-CDO-ALLDAYEVENT:FALSE
SUMMARY:Yoga with Om on the Range
DESCRIPTION:Enjoy an all levels vinyasa style yoga class from Om on the Range Yoga. Class is free\, but you must register to attend at www.omontherange.net/class-schedule. Registration limiited to 40 participants. We will facilitate social distance for all. Got questions?...email terry@omontherange.net.
X-ALT-DESC;FMTTYPE=text/html:Enjoy an all levels vinyasa style yoga class from Om on the Range Yoga. Class is free\, but you must register to attend at www.omontherange.net/class-schedule. Registration limiited to 40 participants. We will facilitate social distance for all. Got questions?...email terry@omontherange.net.
LOCATION:Northcenter Town Square
UID:e.1775.14446
SEQUENCE:3
DTSTAMP:20260425T223601Z
URL:https://business.northcenterchamber.com/events/details/yoga-with-om-on-the-range-08-23-2020-14446
END:VEVENT

END:VCALENDAR
